BEGIN:VCALENDAR
VERSION:2.0
PRODID:icalendar-ruby
CALSCALE:GREGORIAN
METHOD:PUBLISH
BEGIN:VEVENT
DTSTAMP:20260426T001951Z
UID:5-422611@stmaryslutheran.org
DTSTART:20261101T150000Z
DTEND:20261101T160000Z
CLASS:PUBLIC
CREATED:20260425T171225
DESCRIPTION:
LAST-MODIFIED:20260425T171225
LOCATION:Sanctuary 
SUMMARY:Sunday Worship
URL;VALUE=URI:https://www.stmaryslutheran.org/events/sunday-worship/2026-11
 -01
ATTACH;FILENAME=4_Worship.jpg;FMTTYPE=image/jpeg:https://dq5pwpg1q8ru0.clou
 dfront.net/2022/06/01/11/00/28/d13d0ec1-aeff-4c6c-84a0-d7804ba26778/4_Wors
 hip.jpg
END:VEVENT
END:VCALENDAR
